BEGIN:VCALENDAR
VERSION:2.0
PRODID:-//wp-events-plugin.com//7.2.3.1//EN
TZID:America/Chicago
X-WR-TIMEZONE:America/Chicago
BEGIN:VEVENT
UID:2@tennacc.org
DTSTART;TZID=America/Chicago;VALUE=DATE:20220519
DTEND;TZID=America/Chicago;VALUE=DATE:20220521
DTSTAMP:20220714T184051Z
URL:https://tennacc.org/events/2022-spring-meeting/
SUMMARY:TACC's 2022 Spring Meeting Information
DESCRIPTION:Registration is now open for TACC's Spring Meeting\, which will
  be held May 19-20\, 2022 at the JW Marriott in New Orleans. You can downl
 oad the program brochure and registration form here.\n\nTACC has a block o
 f rooms reserved at a rate of $269/night for Thursday and Friday. Call the
  JW Marriott at (855) 821-4288 and mention the Group Code "TAC". The Thurs
 day night reception and dinner will be at Arnaud’s\, 813 Bienville St. W
 e have a great program lined up and look forward to seeing you there.\nSch
 edule of Events\nThursday\, May 19\, 2022\n\n\n\n6:00 pm\nRegistration/Coc
 ktails: Arnaud’s – The Irma Room\n\n\n7:30 pm\nDinner: Arnaud’s – 
 The Irma Room\n\n\n\nFriday\, May 20\, 2022\n\n\n\n7:45-8:45 am\nBreakfast
 \n\n\n8:45–9:00 am\nWelcome and Introduction including New Member Introd
 uctions\nDavid Garst\, Director Emeritus\, Lewis Thomason P.C.\n\n\n9:00
 –10:00 am\nBuckle Your Belt: Riding the Labor and Material Escalation Ro
 ller Coaster\nMatthew J. DeVries\, Burr &amp\; Forman and Brian M. Dobbs\,
  Bass\, Berry &amp\; Sims PLC\n\n\n10:00–11:00 am\nWhat Regular People D
 on’t Know About Lawyer Ethics Rules and What That Means for Lawyers\nBri
 an S. Faughnan\, Lewis Thomason P.C.\n\n\n11:00–11:15 am\nBreak\n\n\n11:
 15 am–12:15 pm\nBlue Oval City: How Vision\, Years of Work\, and Tax Dol
 lars Paid Off\nTed Hayden\, Executive Director of Real Estate Compliance a
 t Tennessee Department of General Services\n\n\n12:15–1:15 pm\nLunch Bre
 ak\n\n\n1:15–2:45 pm\nArbitration: Lessons Learned from Trying a Megacas
 e for International Clients During COVID\nAnthony Gonzales\, Managing Prin
 cipal\, Spire Consulting Group\, Christopher M. Caputo\, Baker\, Donelson\
 , Bearman\, \nCaldwell &amp\; Berkowitz P.C.\, and Slade Sevier\, K&amp\;L
  Gates LLP\n\n\n2:45–3:45 pm\nOwner Controlled Insurance Program (OCIP):
  Overview\, Tricks\, and Traps\nJoseph T. Getz\, Evans Petree P.C. and Joh
 n Shorten\, Director of Client Relationship Management at Willis Towers Wa
 tson\n\n\n3:45 pm\nAdjourn\n\n\n\nCLE Credit\nThis program will apply for 
 4.5 hours of General CLE credit\, and 1.0 hour of Dual CLE credit.\nDownlo
 ads\n&gt\; Click here to download the brochure &amp\; registration form (7
 60KB PDF)
CATEGORIES:Past Events
END:VEVENT
BEGIN:VTIMEZONE
TZID:America/Chicago
X-LIC-LOCATION:America/Chicago
BEGIN:DAYLIGHT
DTSTART:20220313T030000
TZOFFSETFROM:-0600
TZOFFSETTO:-0500
TZNAME:CDT
END:DAYLIGHT
END:VTIMEZONE
END:VCALENDAR